BEGIN:VCALENDAR
VERSION:2.0
PRODID:-//Needle-Bear - ECPv6.15.20//NONSGML v1.0//EN
CALSCALE:GREGORIAN
METHOD:PUBLISH
X-ORIGINAL-URL:https://needle-bear.com
X-WR-CALDESC:Veranstaltungen für Needle-Bear
REFRESH-INTERVAL;VALUE=DURATION:PT1H
X-Robots-Tag:noindex
X-PUBLISHED-TTL:PT1H
BEGIN:VTIMEZONE
TZID:Europe/Berlin
BEGIN:DAYLIGHT
TZOFFSETFROM:+0100
TZOFFSETTO:+0200
TZNAME:CEST
DTSTART:20240331T010000
END:DAYLIGHT
BEGIN:STANDARD
TZOFFSETFROM:+0200
TZOFFSETTO:+0100
TZNAME:CET
DTSTART:20241027T010000
END:STANDARD
BEGIN:DAYLIGHT
TZOFFSETFROM:+0100
TZOFFSETTO:+0200
TZNAME:CEST
DTSTART:20250330T010000
END:DAYLIGHT
BEGIN:STANDARD
TZOFFSETFROM:+0200
TZOFFSETTO:+0100
TZNAME:CET
DTSTART:20251026T010000
END:STANDARD
BEGIN:DAYLIGHT
TZOFFSETFROM:+0100
TZOFFSETTO:+0200
TZNAME:CEST
DTSTART:20260329T010000
END:DAYLIGHT
BEGIN:STANDARD
TZOFFSETFROM:+0200
TZOFFSETTO:+0100
TZNAME:CET
DTSTART:20261025T010000
END:STANDARD
END:VTIMEZONE
BEGIN:VEVENT
DTSTART;TZID=Europe/Berlin:20250301T100000
DTEND;TZID=Europe/Berlin:20250302T160000
DTSTAMP:20260422T130625
CREATED:20241204T140437Z
LAST-MODIFIED:20241204T140437Z
UID:139-1740823200-1740931200@needle-bear.com
SUMMARY:Der Gansey-Treff am 1. & 2. März 2025
DESCRIPTION:Der Treffpunkt für alle Gansey-LiebhaberInnen oder die es noch werden wollen \n \nWas?\nZwei Tage zusammen stricken und sich über Strickprojekte austauschen.\nDas Gansey stricken steht dabei im Vordergrund.\nDer Gansey-Treff ist kein Kurs\, sondern ein lockeres Stricktreffen \nWer?\nAlle\, die sich für Ganseys interessieren\, einen Gansey stricken oder stricken möchten. Stricken sie zwei Tage in ruhiger Atmosphäre und tauschen sich mit gleichgesinnten StrickerInnen aus. \nDIE IDEE: \nSeit fast 200 Jahren gibt es Ganseys\, die Arbeitspullover der englischen und schottischen Heringsfischer. Beinahe wären sie in Vergessenheit geraten\, erfreuen sich aber jetzt wieder weltweit einer großen Beliebtheit. Denn diese Pullover sind alltagstauglich\, kleidsam und dank der nahtlosen Strickmethode sehr angenehm zu stricken. \nWir möchten beim Gansey Treff die Liebhaber des Ganseys zusammenbringen und zum gegenseitigen Austausch anregen. \nGanseys stricken ist eigentlich ganz einfach\, aber es gibt ein paar Besonderheiten\, die sowohl erfahrene Strickerinnen als auch Strickanfänger zum Grübeln bringen. Beim Gansey Treff haben Sie die Gelegenheit sich Rat bei erfahrenen Ganseystrickern zu holen. \nZeigen Sie Ihre fertig gestrickten Ganseys und erzählen die Geschichte dazu. Lassen Sie sich von den gezeigten Ganseys zu Ihrem eigenen Gansey inspirieren. \nSie müssen keinen Gansey stricken\, um teilzunehmen. Der gemeinsame entspannte Austausch über unsere Lieblingspullover steht im Vordergrund. \nAblauf: \nBeginn am Samstag und Sonntag um 10:00 Uhr.\nEnde am Samstag um 18:00 Uhr\, am Sonntag um 16:00 Uhr.\nMittagspause mit Mittagessen an beiden Tagen\nWährend der Veranstaltung gibt es Wasser/Tee/Kaffee \nDer Samstagabend steht zur freien Verfügung. \nKosten\nDie Teilnahme am zweitägigen Gansey Treff kostet 145 € \nBuchen Sie Ihre Teilnahme am Gansey-Treffen hier   \nDie Anzahl der Plätze ist auf 25 Personen begrenzt\nAnmeldeschluss 15. Februar 2025 \nDer Veranstaltungsort: \nDie Jugendherberge Leer ist eines der ältesten Gebäude der Stadt – und heute ein topmodernes\, komfortables Haus. Den malerischen Museumshafen\, die „Bummel-Meile“ und viele andere Sehenswürdigkeiten erreichen Sie bequem zu Fuß\, denn die Jugendherberge liegt im Herzen der lebendigen Altstadt Leers.\nDie Zimmer sind mit jeweils eigener Dusche/WC ausgestattet\, fast wie im Hotel. Das Essen ist sehr lecker\, frisch zubereitet mit Bio-Gemüse. Es gibt auch ein Angebot für Vegetarier \nDie Preise pro Nacht: \n75\,70 Euro Einzelzimmer\nDusche/WC inkl. Bettwäsche und Handtuchset\nmit Vollverpflegung (Frühstück/Mittagessen/Abendessen) \n131\,40 Euro Zweibettzimmer (also  65\,40 € pro Person)\nDusche/WC inkl. Bettwäsche und Handtuchset\nmit Vollverpflegung (Frühstück/Mittagessen/Abendessen) \n55\,70 Euro Bett im Mehrbettzimmer\nDusche/WC inkl. Bettwäsche und Handtuchset\nmit Vollverpflegung (Frühstück/Mittagessen/Abendessen) \n  \nDie Übernachtung buchen und bezahlen Sie direkt bei der Jugendherberge Leer.\nBitte nennen Sie bei der Buchung das Stichwort „Veranstaltung von wasserwolle“\nSollten Sie keine Übernachtung benötigen\, können Sie auch als Tagesgast teilnehmen. Bitte senden Sie uns dazu eine Anfrage per E-Mail an wasserwolle@web.de.
URL:https://needle-bear.com/event/der-gansey-treff-am-1-2-maerz-2025/
LOCATION:Jugendherberge  Leer\, Süderkreuzstr. 7\, Leer\, 26789
END:VEVENT
END:VCALENDAR